BEGIN:VCALENDAR
CALSCALE:GREGORIAN
METHOD:PUBLISH
PRODID:-//IT-On.NET//bielefeld.jetzt//DE
VERSION:2.0
BEGIN:VEVENT
CLASS:PUBLIC
CREATED:20260421T114509Z
DESCRIPTION:https://staging.bie-jetzt.rz-betrieb.de/node/361281\n\nEin
 Abend voller Musik\, die bewegt\, befreit und verbindet: Sounds of Pride  
 \nfeiert unsere Vielfalt mit großen Hymnen\, kraftvollen Balladen und  
 \nmitreißenden Hits. Ob Queen\, Taylor Swift\, Elton John oder Diana Ross
 –   \ndieses Konzert bringt das Gefühl von Freiheit\, Liebe und
 Zusammenhalt auf   \ndie große Bühne der Rudolf-Oetker-Halle. \n  \n
 \nMit dem WDR Funkhausorchester unter der Leitung von David Brophy\, den  
 \nherausragenden Sänger*innen Madina Frey und Riccardo Greco sowie dem  
 \nModerator Benni Bauerdick erwartet Sie eine mitreißende musikalische
 Reise.   \nVon I Will Survive und I Want To Break Free über You need to
 calm down bis   \nhin zu Born This Way und Firework erklingen an diesem
 Abend Songs\, die seit   \nJahrzehnten für Stärke\, Selbstbestimmung und
 Gemeinschaft stehen. \n \nOb sanfte Melodien oder euphorische Beats –
 dieses Konzert ist eine   \nEinladung\, sich von Musik tragen zu lassen\,
 gemeinsam zu feiern und die   \nVielfalt des Lebens in all ihren Farben zu
 genießen. Ein Abend\, der nicht   \nnur musikalisch\, sondern auch
 emotional in Erinnerung bleiben wird. \n \n(Stand: 21.04.2026)
DTEND:20260703T203000Z
DTSTAMP:20250416T003701Z
DTSTART:20260703T180000Z
LAST-MOD:20250417T003701Z
STATUS:CONFIRMED
SUMMARY:Queen x Taylor Swift x ...
TRANSP:OPAQUE
UID:361282
URL:https://staging.bie-jetzt.rz-betrieb.de/node/361281
END:VEVENT
END:VCALENDAR
