BEGIN:VCALENDAR
CALSCALE:GREGORIAN
METHOD:PUBLISH
PRODID:-//IT-On.NET//bielefeld.jetzt//DE
VERSION:2.0
BEGIN:VEVENT
CLASS:PUBLIC
CREATED:20260419T143737Z
DESCRIPTION:https://staging.bie-jetzt.rz-betrieb.de/node/363185\n\nDie
 Klassik-Lounge ab 0 verbindet an insgesamt drei Terminen ein kurzes  
 \nKonzert mit einem gemütlichen Beisammensein im Foyer der  
 \nRudolf-Oetker-Halle. Nach einem gemeinsamen Beginn mit Begrüßungslied
 oder   \nBewegungsbeispiel besteht die Möglichkeit\, sich bei einem
 Getränk und Snack   \nmit anderen Eltern auszutauschen und so neue
 Kontakte zu knüpfen oder   \neinfach mit der Familie und Freund*innen
 einen entspannten Sonntagvormittag   \nzu genießen.  \n \nFür den
 Nachwuchs steht eine Kiste mit verschiedenen Spielen und Büchern   \nzur
 Verfügung. Höhepunkt der 90-minütigen Veranstaltung ist ein Konzert  
 \nauf der Foyer-Bühne. Damit die kleinsten Zuhörer*innen ganz nah am  
 \nGeschehen mit dabei sind\, liegen vor der Bühne Sitzkissen bereit. Im  
 \nAnschluss an das kleine Konzert klingt der gesellige Vormittag in Ruhe
 aus.  \nKosten: Kinder 6\,00€ / Erwachsene 12\,00€ \nDie
 12\,00€-Tickets beinhalten den Eintrittspreis sowie ein Stück Gebäck  
 \nund ein Kalt- oder Warmgetränk.  \n \nBitte beachten Sie: Karten gibt
 es nur im Vorverkauf über die Theater- und   \nKonzertkasse sowie über
 das Kartentelefon (0521 51-5454). Der Vorverkauf   \nstartet immer am 1.
 des jeweiligen Vormonats.  \n \n(Stand: 19.04.2026)
DTEND:20260607T093000Z
DTSTAMP:20250429T003701Z
DTSTART:20260607T080000Z
LAST-MOD:20250429T003701Z
STATUS:CONFIRMED
SUMMARY:Klassik-Lounge ab 0
TRANSP:OPAQUE
UID:363188
URL:https://staging.bie-jetzt.rz-betrieb.de/node/363185
END:VEVENT
END:VCALENDAR
