BEGIN:VCALENDAR
CALSCALE:GREGORIAN
METHOD:PUBLISH
PRODID:-//IT-On.NET//bielefeld.jetzt//DE
VERSION:2.0
BEGIN:VEVENT
CLASS:PUBLIC
CREATED:20260419T144556Z
DESCRIPTION:https://staging.bie-jetzt.rz-betrieb.de/node/393351\n\nWas im
 Mai 2016 als kleiner Projektchor ins Leben gerufen wurde\, hat sich  
 \ninzwischen zu einer festen Größe in Bielefelds Chorlandschaft
 gemausert.   \nZum zehnjährigen Jubiläum lädt der Popchor des
 Stadttheaters zu einer   \ngroßen Sause auf der Bühne der
 Rudolf-Oetker-Halle ein. Mit im Gepäck sind   \nKlassiker aus den
 gemeinsamen Jahren wie Bohemian Rhapsody oder Thank you for   \nthe Music
 sowie neuere Hits wie Just Give Me a Reason und Angels. Natürlich  
 \ndürfen auch Titel aus Musicals und Filmen wie Defying Gravity aus
 Wicked und   \nThis Is Me aus The Greatest Showman nicht fehlen. Und
 selbstverständlich   \ngibt es Songs in spannenden Arrangements\, die
 extra für das Konzert neu   \neinstudiert wurden\, die an dieser Stelle
 aber noch nicht verraten werden.   \nDenn war wäre eine Geburtstagsparty
 ohne ein paar Überraschungen? \n \n(Stand: 19.04.2026)
DTEND:20260529T193000Z
DTSTAMP:20251217T013701Z
DTSTART:20260529T180000Z
LAST-MOD:20251219T013701Z
STATUS:CONFIRMED
SUMMARY:A Million Dreams: 10 Jahre ONE VOICE
TRANSP:OPAQUE
UID:393352
URL:https://staging.bie-jetzt.rz-betrieb.de/node/393351
END:VEVENT
END:VCALENDAR
