BEGIN:VCALENDAR
CALSCALE:GREGORIAN
METHOD:PUBLISH
PRODID:-//IT-On.NET//bielefeld.jetzt//DE
VERSION:2.0
BEGIN:VEVENT
CLASS:PUBLIC
CREATED:20260421T114711Z
DESCRIPTION:https://staging.bie-jetzt.rz-betrieb.de/node/398597\n\nKünstliche
 Intelligenz ist längst im Alltag angekommen – in Apps\, in der  
 \nSchule\, im Beruf\, in Verwaltung und Medien. Aber was kann KI wirklich?
 Wo   \nliegen Grenzen und Risiken? Und wie nutzt man sie kompetent\, ohne
 blind zu   \nvertrauen? \n \nMit *#KI.AllesKlar!* lädt die *KI-Akademie
 OWL* die breite Stadtgesellschaft   \nzu einem öffentlichen
 Wissenschaftskommunikations-Nachmittag ein:   \nverständlich\,
 dialogorientiert und zum Mitmachen. \n \n * *KlarText.* liefern
 KI-Expert*innen in kurzen Impulsen zu aktuellen \n   KI-Themen – von
 “wow” bis “warte mal…”. \n * Im moderierten Panel *FragNach.*
 gibt es Raum für Fragen zu Chancen\, \n   Grenzen und Risiken. \n * In
 der Demo-Area *ZumAnfassen.* bieten wir KI live zum Ausprobieren und \n  
 besser verstehen. \n * Zum Abschluss bringt *SlamTheAlgorithm!* Forschung
 auf die Bühne – \n   unterhaltsam\, kurz und auf den Punkt. \n \nOb Sie
 schon KI nutzen oder gerade erst einsteigen wollen: Kommen Sie vorbei  
 \nund bring Sie Ihre Fragen mit! \n \n(Stand: 21.04.2026)
DTSTAMP:20260310T013701Z
DTSTART:20260508T123000Z
GEO:52.036500;8.495100
LAST-MOD:20260310T013701Z
LOCATION:Universität Bielefeld
STATUS:CONFIRMED
SUMMARY:#KI.AllesKlar!
TRANSP:OPAQUE
UID:398598
URL:https://staging.bie-jetzt.rz-betrieb.de/node/398597
END:VEVENT
END:VCALENDAR
