BEGIN:VCALENDAR
CALSCALE:GREGORIAN
METHOD:PUBLISH
PRODID:-//IT-On.NET//bielefeld.jetzt//DE
VERSION:2.0
BEGIN:VEVENT
CLASS:PUBLIC
CREATED:20260421T102653Z
DESCRIPTION:https://staging.bie-jetzt.rz-betrieb.de/node/398608\n\nWenn
 die Mezzosopranistin nicht gerade an ihrem Stammhaus\, dem Theater  
 \nBielefeld\, tätig ist\, findet man sie schon mal bei den Bayreuther  
 \nFestspielen\, in der Semperoper oder den großen Berliner Opernhäusern
 wo   \nihre Stimme genauso gefragt ist wie beispielsweise in Sydney. Dort
 sang sie   \nunlängst Gustav Mahlers bewegendes Lied von der Erde\,
 dirigiert von   \nChefdirigentin Simone Young\, mit der sie schon seit
 längerem künstlerisch   \nverbunden ist. \nIn Bielefeld gehört die
 gebürtige Moldawierin Alexandra Ionis längst zu   \nden markantesten
 Stimmen des Musiktheaterensembles\, besonders durch Partien   \nwie Mrs.
 Quickly (Falstaff)\, Judith (Herzog Blaubarts Burg)\, Katharina (Die  
 \ngriechische Passion) oder die furchteinflößende Herzkönigin in der  
 \nFamilienoper Alice im Wunderland. \nDie Theater- und Konzertfreunde
 verliehen ihr zu Beginn der Spielzeit 2025/26   \nden Operntaler und
 spätestens das ist ein willkommener Anlass\, die   \nVielgereiste einmal
 jenseits der Bühne vorzustellen. Das passt »wie   \ngespuckt« zu
 unserem beliebten Format An der Bar mit … (das die »TheKos«   \neinst
 initiiert haben)\, wenn Konzerthausdirektor Martin Beyer sich mit  
 \nAlexandra Ionis gesprächsweise an die bewusste Bar setzt. \n \n(Stand:
 21.04.2026)
DTEND:20260519T190000Z
DTSTAMP:20260314T013701Z
DTSTART:20260519T170000Z
LAST-MOD:20260315T013701Z
STATUS:CONFIRMED
SUMMARY:An der Bar mit ... Alexandra Ionis
TRANSP:OPAQUE
UID:398609
URL:https://staging.bie-jetzt.rz-betrieb.de/node/398608
END:VEVENT
END:VCALENDAR
