BEGIN:VCALENDAR
CALSCALE:GREGORIAN
METHOD:PUBLISH
PRODID:-//IT-On.NET//bielefeld.jetzt//DE
VERSION:2.0
BEGIN:VEVENT
CLASS:PUBLIC
CREATED:20260421T102613Z
DESCRIPTION:https://staging.bie-jetzt.rz-betrieb.de/node/398707\n\nVortrag
 im Rahmen des Kolloquiums Mittelalter und Frühe Neuzeit. \n \nFür
 Informationen zur Veranstaltung sowie Zoom-Zugangsdaten können sich  
 \nTeilnahmeinteressierte per Mail \n \nan karen.gamm@uni-bielefeld.de [1]
 wenden. \n \nRaum: X-E0-222 \n \n \n[1]
 https://uni-bielefeld.de/mailto:karen.gamm@uni-bielefeld.de \n(Stand:
 21.04.2026)
DTSTAMP:20260410T003701Z
DTSTART:20260618T160000Z
GEO:52.036500;8.495100
LAST-MOD:20260410T003701Z
LOCATION:Universität Bielefeld
STATUS:CONFIRMED
SUMMARY:Kolloquium der Vormoderne: Matthias Asche (Universität Potsdam):
 "Erwähltheit und Bewährung im Protestantismus – Elitebewußtsein und
 Exulantentheologie bei konfessionell motivierten Migrantengruppen in der
 Frühen Neuzeit"
TRANSP:OPAQUE
UID:398708
URL:https://staging.bie-jetzt.rz-betrieb.de/node/398707
END:VEVENT
END:VCALENDAR
