BEGIN:VCALENDAR
CALSCALE:GREGORIAN
METHOD:PUBLISH
PRODID:-//IT-On.NET//bielefeld.jetzt//DE
VERSION:2.0
BEGIN:VEVENT
CLASS:PUBLIC
CREATED:20260421T114416Z
DESCRIPTION:https://staging.bie-jetzt.rz-betrieb.de/node/398791\n\nVortrag
 im Rahmen des Kolloquiums Kultur/Geschichte \n \nRaum: X A2-103 \n
 \n(Stand: 21.04.2026)
DTSTAMP:20260417T003701Z
DTSTART:20260423T140000Z
GEO:52.036500;8.495100
LAST-MOD:20260417T003701Z
LOCATION:Universität Bielefeld
STATUS:CONFIRMED
SUMMARY:Alan E. Steinweis (Vermont): The Lone Assassin: Georg Elser’s
 Attempt to Assassinate Hitler in November 1939 and the Memory of the
 German Resistance
TRANSP:OPAQUE
UID:398792
URL:https://staging.bie-jetzt.rz-betrieb.de/node/398791
END:VEVENT
END:VCALENDAR
